BEGIN:VCALENDAR
VERSION:2.0
PRODID:-//SP Oberwallis - ECPv6.15.20//NONSGML v1.0//EN
CALSCALE:GREGORIAN
METHOD:PUBLISH
X-WR-CALNAME:SP Oberwallis
X-ORIGINAL-URL:https://spoberwallis.ch
X-WR-CALDESC:Veranstaltungen im SP Oberwallis
REFRESH-INTERVAL;VALUE=DURATION:PT1H
X-Robots-Tag:noindex
X-PUBLISHED-TTL:PT1H
BEGIN:VTIMEZONE
TZID:Europe/Zurich
BEGIN:DAYLIGHT
TZOFFSETFROM:+0100
TZOFFSETTO:+0200
TZNAME:CEST
DTSTART:20220327T010000
END:DAYLIGHT
BEGIN:STANDARD
TZOFFSETFROM:+0200
TZOFFSETTO:+0100
TZNAME:CET
DTSTART:20221030T010000
END:STANDARD
BEGIN:DAYLIGHT
TZOFFSETFROM:+0100
TZOFFSETTO:+0200
TZNAME:CEST
DTSTART:20230326T010000
END:DAYLIGHT
BEGIN:STANDARD
TZOFFSETFROM:+0200
TZOFFSETTO:+0100
TZNAME:CET
DTSTART:20231029T010000
END:STANDARD
BEGIN:DAYLIGHT
TZOFFSETFROM:+0100
TZOFFSETTO:+0200
TZNAME:CEST
DTSTART:20240331T010000
END:DAYLIGHT
BEGIN:STANDARD
TZOFFSETFROM:+0200
TZOFFSETTO:+0100
TZNAME:CET
DTSTART:20241027T010000
END:STANDARD
END:VTIMEZONE
BEGIN:VEVENT
DTSTART;TZID=Europe/Zurich:20231005T183000
DTEND;TZID=Europe/Zurich:20231005T210000
DTSTAMP:20260420T171108
CREATED:20230921T075501Z
LAST-MODIFIED:20230921T075553Z
UID:86115-1696530600-1696539600@spoberwallis.ch
SUMMARY:Hock SP Brig-Glis/Naters/Brigerberg
DESCRIPTION:
URL:https://spoberwallis.ch/veranstaltung/hock-sp-brig-glis-naters-brigerberg-2/
END:VEVENT
END:VCALENDAR