BEGIN:VCALENDAR
VERSION:2.0
PRODID:-//SP Oberwallis - ECPv6.15.20//NONSGML v1.0//EN
CALSCALE:GREGORIAN
METHOD:PUBLISH
X-WR-CALNAME:SP Oberwallis
X-ORIGINAL-URL:https://spoberwallis.ch
X-WR-CALDESC:Veranstaltungen im SP Oberwallis
REFRESH-INTERVAL;VALUE=DURATION:PT1H
X-Robots-Tag:noindex
X-PUBLISHED-TTL:PT1H
BEGIN:VTIMEZONE
TZID:Europe/Zurich
BEGIN:DAYLIGHT
TZOFFSETFROM:+0100
TZOFFSETTO:+0200
TZNAME:CEST
DTSTART:20220327T010000
END:DAYLIGHT
BEGIN:STANDARD
TZOFFSETFROM:+0200
TZOFFSETTO:+0100
TZNAME:CET
DTSTART:20221030T010000
END:STANDARD
BEGIN:DAYLIGHT
TZOFFSETFROM:+0100
TZOFFSETTO:+0200
TZNAME:CEST
DTSTART:20230326T010000
END:DAYLIGHT
BEGIN:STANDARD
TZOFFSETFROM:+0200
TZOFFSETTO:+0100
TZNAME:CET
DTSTART:20231029T010000
END:STANDARD
BEGIN:DAYLIGHT
TZOFFSETFROM:+0100
TZOFFSETTO:+0200
TZNAME:CEST
DTSTART:20240331T010000
END:DAYLIGHT
BEGIN:STANDARD
TZOFFSETFROM:+0200
TZOFFSETTO:+0100
TZNAME:CET
DTSTART:20241027T010000
END:STANDARD
END:VTIMEZONE
BEGIN:VEVENT
DTSTART;TZID=Europe/Zurich:20231127T193000
DTEND;TZID=Europe/Zurich:20231127T220000
DTSTAMP:20260420T163050
CREATED:20230921T075928Z
LAST-MODIFIED:20231121T191621Z
UID:86121-1701113400-1701122400@spoberwallis.ch
SUMMARY:Hock SP Visp+
DESCRIPTION:November: Hock SP Visp+ (19.30h im Jazz Chälli Visp)
URL:https://spoberwallis.ch/veranstaltung/hock-sp-visp-2/
END:VEVENT
END:VCALENDAR