BEGIN:VCALENDAR
VERSION:2.0
PRODID:-//SP Oberwallis - ECPv6.15.20//NONSGML v1.0//EN
CALSCALE:GREGORIAN
METHOD:PUBLISH
X-WR-CALNAME:SP Oberwallis
X-ORIGINAL-URL:https://spoberwallis.ch
X-WR-CALDESC:Veranstaltungen im SP Oberwallis
REFRESH-INTERVAL;VALUE=DURATION:PT1H
X-Robots-Tag:noindex
X-PUBLISHED-TTL:PT1H
BEGIN:VTIMEZONE
TZID:Europe/Zurich
BEGIN:DAYLIGHT
TZOFFSETFROM:+0100
TZOFFSETTO:+0200
TZNAME:CEST
DTSTART:20220327T010000
END:DAYLIGHT
BEGIN:STANDARD
TZOFFSETFROM:+0200
TZOFFSETTO:+0100
TZNAME:CET
DTSTART:20221030T010000
END:STANDARD
BEGIN:DAYLIGHT
TZOFFSETFROM:+0100
TZOFFSETTO:+0200
TZNAME:CEST
DTSTART:20230326T010000
END:DAYLIGHT
BEGIN:STANDARD
TZOFFSETFROM:+0200
TZOFFSETTO:+0100
TZNAME:CET
DTSTART:20231029T010000
END:STANDARD
BEGIN:DAYLIGHT
TZOFFSETFROM:+0100
TZOFFSETTO:+0200
TZNAME:CEST
DTSTART:20240331T010000
END:DAYLIGHT
BEGIN:STANDARD
TZOFFSETFROM:+0200
TZOFFSETTO:+0100
TZNAME:CET
DTSTART:20241027T010000
END:STANDARD
END:VTIMEZONE
BEGIN:VEVENT
DTSTART;TZID=Europe/Zurich:20230828T193000
DTEND;TZID=Europe/Zurich:20230828T193000
DTSTAMP:20260420T170807
CREATED:20230821T111227Z
LAST-MODIFIED:20230821T111227Z
UID:85981-1693251000-1693251000@spoberwallis.ch
SUMMARY:SP Hock Visp+
DESCRIPTION:SP Hock Visp+ (19:30h\, JazzChälli)
URL:https://spoberwallis.ch/veranstaltung/sp-hock-visp/
END:VEVENT
END:VCALENDAR