BEGIN:VCALENDAR
VERSION:2.0
PRODID:-//SP Oberwallis - ECPv6.15.20//NONSGML v1.0//EN
CALSCALE:GREGORIAN
METHOD:PUBLISH
X-WR-CALNAME:SP Oberwallis
X-ORIGINAL-URL:https://spoberwallis.ch
X-WR-CALDESC:Veranstaltungen im SP Oberwallis
REFRESH-INTERVAL;VALUE=DURATION:PT1H
X-Robots-Tag:noindex
X-PUBLISHED-TTL:PT1H
BEGIN:VTIMEZONE
TZID:Europe/Zurich
BEGIN:DAYLIGHT
TZOFFSETFROM:+0100
TZOFFSETTO:+0200
TZNAME:CEST
DTSTART:20220327T010000
END:DAYLIGHT
BEGIN:STANDARD
TZOFFSETFROM:+0200
TZOFFSETTO:+0100
TZNAME:CET
DTSTART:20221030T010000
END:STANDARD
BEGIN:DAYLIGHT
TZOFFSETFROM:+0100
TZOFFSETTO:+0200
TZNAME:CEST
DTSTART:20230326T010000
END:DAYLIGHT
BEGIN:STANDARD
TZOFFSETFROM:+0200
TZOFFSETTO:+0100
TZNAME:CET
DTSTART:20231029T010000
END:STANDARD
BEGIN:DAYLIGHT
TZOFFSETFROM:+0100
TZOFFSETTO:+0200
TZNAME:CEST
DTSTART:20240331T010000
END:DAYLIGHT
BEGIN:STANDARD
TZOFFSETFROM:+0200
TZOFFSETTO:+0100
TZNAME:CET
DTSTART:20241027T010000
END:STANDARD
END:VTIMEZONE
BEGIN:VEVENT
DTSTART;TZID=Europe/Zurich:20230915T190000
DTEND;TZID=Europe/Zurich:20230915T235900
DTSTAMP:20260420T184705
CREATED:20230629T080431Z
LAST-MODIFIED:20230904T095318Z
UID:10000014-1694804400-1694822340@spoberwallis.ch
SUMMARY:Wahlfest nat. Wahlen in Leuk
DESCRIPTION:Unterstützungs-Wahlfest vom 15. September in Leuk für die eidg. Wahlen 202 \nAm 22. Oktober finden die eidgenössischen Wahlen statt. Die SPO tritt mit einer jungen\, dynamischen und engagierten 5er-Liste mit Claudia Alpiger\, Sascha Erpen\, David Gundi\, Dina Studer und Rahel Zimmermann an. Zudem kandidiert unsere Präsidentin\, Claudia Alpiger\, für den Ständerat. \n\nGemeinsam ergreifen wir Partei für eine Stärkung der Kaufkraft\, für Klimaschutz und für Gleichstellung.\nWir ergreifen Partei für eine soziale Schweiz! \nUm die Kandidat:innen für den Wahlkampf zu motivieren und unsere Wähler:innen zu mobilisieren\, findet am Freitag\, 15. September ab 19 Uhr unser Unterstützungs-Wahlfest im Spritzuhüs in Leuk ( hier) statt. \nAlle Mitglieder\, Sympathisant:innen und Interessierten sind herzlich eingeladen\, bei einem Raclette und einem Glas Wein mit den anwesenden Kandidat:innen (auch aus dem Welschwallis!) zu diskutieren und dabei die SPO beim Wahlkampf zu unterstützen.\nFür musikalische Unterhaltung ist auch gesorgt! \nWir würden uns freuen\, wenn ihr am 15. September den Weg nach Leuk findet! \n(Falls ihr am 15. September nicht dabei sein könnt\, die SPO beim Wahlkampf aber trotzdem unterstützen möchtet\, könnt ihr hier eine Spende abgeben. Danke!) \n  \n 
URL:https://spoberwallis.ch/veranstaltung/wahlfest-nat-wahlen-in-leuk/
LOCATION:Spritzuhüs Leuk
END:VEVENT
END:VCALENDAR