BEGIN:VCALENDAR
VERSION:2.0
PRODID:-//SP Oberwallis - ECPv6.15.20//NONSGML v1.0//EN
CALSCALE:GREGORIAN
METHOD:PUBLISH
X-WR-CALNAME:SP Oberwallis
X-ORIGINAL-URL:https://spoberwallis.ch
X-WR-CALDESC:Veranstaltungen im SP Oberwallis
REFRESH-INTERVAL;VALUE=DURATION:PT1H
X-Robots-Tag:noindex
X-PUBLISHED-TTL:PT1H
BEGIN:VTIMEZONE
TZID:Europe/Zurich
BEGIN:DAYLIGHT
TZOFFSETFROM:+0100
TZOFFSETTO:+0200
TZNAME:CEST
DTSTART:20220327T010000
END:DAYLIGHT
BEGIN:STANDARD
TZOFFSETFROM:+0200
TZOFFSETTO:+0100
TZNAME:CET
DTSTART:20221030T010000
END:STANDARD
BEGIN:DAYLIGHT
TZOFFSETFROM:+0100
TZOFFSETTO:+0200
TZNAME:CEST
DTSTART:20230326T010000
END:DAYLIGHT
BEGIN:STANDARD
TZOFFSETFROM:+0200
TZOFFSETTO:+0100
TZNAME:CET
DTSTART:20231029T010000
END:STANDARD
BEGIN:DAYLIGHT
TZOFFSETFROM:+0100
TZOFFSETTO:+0200
TZNAME:CEST
DTSTART:20240331T010000
END:DAYLIGHT
BEGIN:STANDARD
TZOFFSETFROM:+0200
TZOFFSETTO:+0100
TZNAME:CET
DTSTART:20241027T010000
END:STANDARD
END:VTIMEZONE
BEGIN:VEVENT
DTSTART;TZID=Europe/Zurich:20231130T181500
DTEND;TZID=Europe/Zurich:20231130T200000
DTSTAMP:20260420T184504
CREATED:20230914T145256Z
LAST-MODIFIED:20231121T192051Z
UID:10000020-1701368100-1701374400@spoberwallis.ch
SUMMARY:Vorstandsitzung
DESCRIPTION:Vorstandsitzung SPO\, UNIA Visp
URL:https://spoberwallis.ch/veranstaltung/vorstandsitzung-3/
LOCATION:UNIA Visp\, Visp
END:VEVENT
BEGIN:VEVENT
DTSTART;TZID=Europe/Zurich:20230829T181500
DTEND;TZID=Europe/Zurich:20230829T181500
DTSTAMP:20260420T184504
CREATED:20230629T081118Z
LAST-MODIFIED:20230629T081118Z
UID:10000016-1693332900-1693332900@spoberwallis.ch
SUMMARY:Vorstandsitzung
DESCRIPTION:
URL:https://spoberwallis.ch/veranstaltung/vorstandsitzung/
LOCATION:UNIA Visp\, Visp
END:VEVENT
END:VCALENDAR